BEGIN:VCALENDAR
VERSION:2.0
PRODID:-//Liftup Akadémia Naptár//EN
METHOD:PUBLISH
BEGIN:VEVENT
UID:la_event_3528@mh.liftupakademia.hu
DTSTAMP:20250515T112836Z
DTSTART;TZID=Europe/Budapest:20250522T140000
DTEND;TZID=Europe/Budapest:20250522T150000
SUMMARY:SMH Live: Programozni marketingesként AI segítséggel?
DESCRIPTION:Weboldal fejlesztés? Facebook integráció? Wordpress plugin készítés? Saját adatbázis kezelés?\n\nTudunk markeitngesként programozni AI segítséggel\, ha alapvetően nem értünk a kódoláshoz?\nMilyen fejlesztői / programozási ferladatokat tudunk kiváltani?\nMilyen alap tudás kell hozzá\, vagy kell-e egyáltaláni tudás?\n\nKi tudjuk-e váltani a fejlesztőket AI segítséggel? Tudunk-e AI segítséggel költséget csökkenteni?\n\nEzen az előadáson a tapasztalatainkat osztjuk meg példákon keresztül\, az elmúlt időszak programozói projektjeinken keresztül.
LOCATION:Zoom
END:VEVENT
END:VCALENDAR
